BEGIN:VCALENDAR
VERSION:2.0
PRODID:-//Schuldenknooppunt - ECPv6.15.20//NONSGML v1.0//EN
CALSCALE:GREGORIAN
METHOD:PUBLISH
X-WR-CALNAME:Schuldenknooppunt
X-ORIGINAL-URL:https://schuldenknooppunt.nl
X-WR-CALDESC:Evenementen voor Schuldenknooppunt
REFRESH-INTERVAL;VALUE=DURATION:PT1H
X-Robots-Tag:noindex
X-PUBLISHED-TTL:PT1H
BEGIN:VTIMEZONE
TZID:Europe/Amsterdam
BEGIN:DAYLIGHT
TZOFFSETFROM:+0100
TZOFFSETTO:+0200
TZNAME:CEST
DTSTART:20220327T010000
END:DAYLIGHT
BEGIN:STANDARD
TZOFFSETFROM:+0200
TZOFFSETTO:+0100
TZNAME:CET
DTSTART:20221030T010000
END:STANDARD
BEGIN:DAYLIGHT
TZOFFSETFROM:+0100
TZOFFSETTO:+0200
TZNAME:CEST
DTSTART:20230326T010000
END:DAYLIGHT
BEGIN:STANDARD
TZOFFSETFROM:+0200
TZOFFSETTO:+0100
TZNAME:CET
DTSTART:20231029T010000
END:STANDARD
BEGIN:DAYLIGHT
TZOFFSETFROM:+0100
TZOFFSETTO:+0200
TZNAME:CEST
DTSTART:20240331T010000
END:DAYLIGHT
BEGIN:STANDARD
TZOFFSETFROM:+0200
TZOFFSETTO:+0100
TZNAME:CET
DTSTART:20241027T010000
END:STANDARD
END:VTIMEZONE
BEGIN:VEVENT
DTSTART;TZID=Europe/Amsterdam:20231212T100000
DTEND;TZID=Europe/Amsterdam:20231212T110000
DTSTAMP:20260426T062732
CREATED:20230710T175502Z
LAST-MODIFIED:20231106T142314Z
UID:10000022-1702375200-1702378800@schuldenknooppunt.nl
SUMMARY:Informatiebijeenkomst
DESCRIPTION:Nu ook voor alle schuldhulpverleners\, bewindvoerders en schuldeisers! Hoor meer over de nieuwe modules Meldingen bewindvoering\, Schuldinventarisatie en Betalingsregeling en over het Schuldenknooppunt in het algemeen. Naast de werking\, komen het gebruik en de kosten aan bod. Ook bespreken we hoe je kunt aansluiten. We beantwoorden vooraf gestelde vragen en uiteraard is er voldoende tijd voor het stellen van aanvullende vragen. Meld je nu aan! \n  \nOeps! We konden je formulier niet vinden.
URL:https://schuldenknooppunt.nl/bijeenkomst/informatiebijeenkomst-12-december/
LOCATION:Online
CATEGORIES:Informatiebijeenkomsten voor Schuldhulpverleners
END:VEVENT
END:VCALENDAR