BEGIN:VCALENDAR
VERSION:2.0
PRODID:-//Schuldenknooppunt - ECPv6.15.20//NONSGML v1.0//EN
CALSCALE:GREGORIAN
METHOD:PUBLISH
X-ORIGINAL-URL:https://schuldenknooppunt.nl
X-WR-CALDESC:Evenementen voor Schuldenknooppunt
REFRESH-INTERVAL;VALUE=DURATION:PT1H
X-Robots-Tag:noindex
X-PUBLISHED-TTL:PT1H
BEGIN:VTIMEZONE
TZID:Europe/Amsterdam
BEGIN:DAYLIGHT
TZOFFSETFROM:+0100
TZOFFSETTO:+0200
TZNAME:CEST
DTSTART:20250330T010000
END:DAYLIGHT
BEGIN:STANDARD
TZOFFSETFROM:+0200
TZOFFSETTO:+0100
TZNAME:CET
DTSTART:20251026T010000
END:STANDARD
BEGIN:DAYLIGHT
TZOFFSETFROM:+0100
TZOFFSETTO:+0200
TZNAME:CEST
DTSTART:20260329T010000
END:DAYLIGHT
BEGIN:STANDARD
TZOFFSETFROM:+0200
TZOFFSETTO:+0100
TZNAME:CET
DTSTART:20261025T010000
END:STANDARD
BEGIN:DAYLIGHT
TZOFFSETFROM:+0100
TZOFFSETTO:+0200
TZNAME:CEST
DTSTART:20270328T010000
END:DAYLIGHT
BEGIN:STANDARD
TZOFFSETFROM:+0200
TZOFFSETTO:+0100
TZNAME:CET
DTSTART:20271031T010000
END:STANDARD
END:VTIMEZONE
BEGIN:VEVENT
DTSTART;TZID=Europe/Amsterdam:20260414T100000
DTEND;TZID=Europe/Amsterdam:20260414T110000
DTSTAMP:20260421T012252
CREATED:20250901T110540Z
LAST-MODIFIED:20250901T110540Z
UID:10000119-1776160800-1776164400@schuldenknooppunt.nl
SUMMARY:Werkgroep Privacy en Security
DESCRIPTION:Ben je privacy of security officer en wil je meer weten over de aandachtspunten die binnen het kader van privacy en/of security van het Schuldenknooppunt voor de komende periode van belang zijn? Meld je dan aan voor het Privacy & Security overleg. Deze bijeenkomst wordt georganiseerd door Koen Versmissen (Privacy Officer & Functionaris Gegevensbescherming) en Jord Franse (Security Officer). \nMeld je aan via het formulier hieronder. \n\n\n                \n                        \n                            Werkgroep Privacy en Security\n                             \n                        \n                        LinkedInDit veld is bedoeld voor validatiedoeleinden en moet niet worden gewijzigd.Naam*\n                            \n                            \n                                                    \n                                                    Voornaam\n                                                \n                            \n                                                    \n                                                    Tussenvoegsel\n                                                \n                            \n                                                    \n                                                    Achternaam\n                                                \n                            \n                        Organisatie*Functie*E-mailadres*\n                            \n                        Telefoonnummer*Stel je vragen
URL:https://schuldenknooppunt.nl/bijeenkomst/werkgroep-privacy-en-security-14-april-2026/
LOCATION:Online
CATEGORIES:Werkgroep Privacy & Security
END:VEVENT
BEGIN:VEVENT
DTSTART;TZID=Europe/Amsterdam:20261027T100000
DTEND;TZID=Europe/Amsterdam:20261027T110000
DTSTAMP:20260421T012252
CREATED:20250901T110901Z
LAST-MODIFIED:20260407T122107Z
UID:10000120-1793095200-1793098800@schuldenknooppunt.nl
SUMMARY:Werkgroep Privacy en Security
DESCRIPTION:Ben je privacy of security officer en wil je meer weten over de aandachtspunten die binnen het kader van privacy en/of security van het Schuldenknooppunt voor de komende periode van belang zijn? Meld je dan aan voor het Privacy & Security overleg. Deze bijeenkomst wordt georganiseerd door Koen Versmissen (Privacy Officer & Functionaris Gegevensbescherming) en Jord Franse (Security Officer). \nMeld je aan via het formulier hieronder. \n\n                \n                        \n                            Werkgroep Privacy en Security\n                             \n                        \n                        CompanyDit veld is bedoeld voor validatiedoeleinden en moet niet worden gewijzigd.Naam*\n                            \n                            \n                                                    \n                                                    Voornaam\n                                                \n                            \n                                                    \n                                                    Tussenvoegsel\n                                                \n                            \n                                                    \n                                                    Achternaam\n                                                \n                            \n                        Organisatie*Functie*E-mailadres*\n                            \n                        Telefoonnummer*Stel je vragen
URL:https://schuldenknooppunt.nl/bijeenkomst/werkgroep-privacy-en-security-27-arpil-2026/
LOCATION:Online
CATEGORIES:Werkgroep Privacy & Security
END:VEVENT
END:VCALENDAR