BEGIN:VCALENDAR
VERSION:2.0
PRODID:-//Schuldenknooppunt - ECPv6.15.20//NONSGML v1.0//EN
CALSCALE:GREGORIAN
METHOD:PUBLISH
X-ORIGINAL-URL:https://schuldenknooppunt.nl
X-WR-CALDESC:Evenementen voor Schuldenknooppunt
REFRESH-INTERVAL;VALUE=DURATION:PT1H
X-Robots-Tag:noindex
X-PUBLISHED-TTL:PT1H
BEGIN:VTIMEZONE
TZID:Europe/Amsterdam
BEGIN:DAYLIGHT
TZOFFSETFROM:+0100
TZOFFSETTO:+0200
TZNAME:CEST
DTSTART:20220327T010000
END:DAYLIGHT
BEGIN:STANDARD
TZOFFSETFROM:+0200
TZOFFSETTO:+0100
TZNAME:CET
DTSTART:20221030T010000
END:STANDARD
BEGIN:DAYLIGHT
TZOFFSETFROM:+0100
TZOFFSETTO:+0200
TZNAME:CEST
DTSTART:20230326T010000
END:DAYLIGHT
BEGIN:STANDARD
TZOFFSETFROM:+0200
TZOFFSETTO:+0100
TZNAME:CET
DTSTART:20231029T010000
END:STANDARD
BEGIN:DAYLIGHT
TZOFFSETFROM:+0100
TZOFFSETTO:+0200
TZNAME:CEST
DTSTART:20240331T010000
END:DAYLIGHT
BEGIN:STANDARD
TZOFFSETFROM:+0200
TZOFFSETTO:+0100
TZNAME:CET
DTSTART:20241027T010000
END:STANDARD
END:VTIMEZONE
BEGIN:VEVENT
DTSTART;TZID=Europe/Amsterdam:20231002T140000
DTEND;TZID=Europe/Amsterdam:20231002T153000
DTSTAMP:20260422T154219
CREATED:20230724T085419Z
LAST-MODIFIED:20230817T140757Z
UID:10000032-1696255200-1696260600@schuldenknooppunt.nl
SUMMARY:Werkgroep Privacy en Security
DESCRIPTION:De aansluit- en verwerkersovereenkomst van het Schuldenknooppunt worden aangepast en toekomstbestendig gemaakt.\nDe overeenkomsten worden beknopter\, en zullen meer verwijzen naar andere documenten. De inhoudelijke wijzigingen zijn beperkt. In deze sessie lichten we een en ander toe en is er ruimte voor vragen. \n  \nOeps! We konden je formulier niet vinden.
URL:https://schuldenknooppunt.nl/bijeenkomst/werkgroep-privacy-security-2-oktober-2023/2023-10-02/
LOCATION:Online
CATEGORIES:Werkgroep Privacy & Security
END:VEVENT
END:VCALENDAR