BEGIN:VCALENDAR
VERSION:2.0
PRODID:-//Schuldenknooppunt - ECPv6.15.20//NONSGML v1.0//EN
CALSCALE:GREGORIAN
METHOD:PUBLISH
X-ORIGINAL-URL:https://schuldenknooppunt.nl
X-WR-CALDESC:Evenementen voor Schuldenknooppunt
REFRESH-INTERVAL;VALUE=DURATION:PT1H
X-Robots-Tag:noindex
X-PUBLISHED-TTL:PT1H
BEGIN:VTIMEZONE
TZID:Europe/Amsterdam
BEGIN:DAYLIGHT
TZOFFSETFROM:+0100
TZOFFSETTO:+0200
TZNAME:CEST
DTSTART:20220327T010000
END:DAYLIGHT
BEGIN:STANDARD
TZOFFSETFROM:+0200
TZOFFSETTO:+0100
TZNAME:CET
DTSTART:20221030T010000
END:STANDARD
BEGIN:DAYLIGHT
TZOFFSETFROM:+0100
TZOFFSETTO:+0200
TZNAME:CEST
DTSTART:20230326T010000
END:DAYLIGHT
BEGIN:STANDARD
TZOFFSETFROM:+0200
TZOFFSETTO:+0100
TZNAME:CET
DTSTART:20231029T010000
END:STANDARD
BEGIN:DAYLIGHT
TZOFFSETFROM:+0100
TZOFFSETTO:+0200
TZNAME:CEST
DTSTART:20240331T010000
END:DAYLIGHT
BEGIN:STANDARD
TZOFFSETFROM:+0200
TZOFFSETTO:+0100
TZNAME:CET
DTSTART:20241027T010000
END:STANDARD
END:VTIMEZONE
BEGIN:VEVENT
DTSTART;TZID=Europe/Amsterdam:20231120T150000
DTEND;TZID=Europe/Amsterdam:20231120T163000
DTSTAMP:20260422T141421
CREATED:20230724T085818Z
LAST-MODIFIED:20231115T130329Z
UID:10000033-1700492400-1700497800@schuldenknooppunt.nl
SUMMARY:Werkgroep Privacy en Security
DESCRIPTION:In deze bijeenkomst van de Werkgroep Privacy en Security gaan we onder leiding van onze privacy officer Koen Versmissen en onze security officer Alexander Freund in overleg over de volgende onderwerpen: overeenkomsten\, gedragscode\, DPIA\, Security assessment\, AVG-rollen en ISO27001. We geven een toelichting op de actuele stand van zaken van deze onderwerpen en inventariseren welke vragen hierover zijn en/of welke acties binnen dit kader de komende periode opgepakt zouden moeten worden. \n  \n\n\n                \n                        \n                            Werkgroep Privacy en Security\n                             \n                        \n                        X/TwitterDit veld is bedoeld voor validatiedoeleinden en moet niet worden gewijzigd.Naam*\n                            \n                            \n                                                    \n                                                    Voornaam\n                                                \n                            \n                                                    \n                                                    Tussenvoegsel\n                                                \n                            \n                                                    \n                                                    Achternaam\n                                                \n                            \n                        Organisatie*Functie*E-mailadres*\n                            \n                        Telefoonnummer*Stel je vragen
URL:https://schuldenknooppunt.nl/bijeenkomst/werkgroep-privacy-security-20-november-2023/
LOCATION:Online
CATEGORIES:Werkgroep Privacy & Security
END:VEVENT
END:VCALENDAR