BEGIN:VCALENDAR
VERSION:2.0
PRODID:-//Schuldenknooppunt - ECPv6.15.20//NONSGML v1.0//EN
CALSCALE:GREGORIAN
METHOD:PUBLISH
X-WR-CALNAME:Schuldenknooppunt
X-ORIGINAL-URL:https://schuldenknooppunt.nl
X-WR-CALDESC:Evenementen voor Schuldenknooppunt
REFRESH-INTERVAL;VALUE=DURATION:PT1H
X-Robots-Tag:noindex
X-PUBLISHED-TTL:PT1H
BEGIN:VTIMEZONE
TZID:Europe/Amsterdam
BEGIN:DAYLIGHT
TZOFFSETFROM:+0100
TZOFFSETTO:+0200
TZNAME:CEST
DTSTART:20230326T010000
END:DAYLIGHT
BEGIN:STANDARD
TZOFFSETFROM:+0200
TZOFFSETTO:+0100
TZNAME:CET
DTSTART:20231029T010000
END:STANDARD
BEGIN:DAYLIGHT
TZOFFSETFROM:+0100
TZOFFSETTO:+0200
TZNAME:CEST
DTSTART:20240331T010000
END:DAYLIGHT
BEGIN:STANDARD
TZOFFSETFROM:+0200
TZOFFSETTO:+0100
TZNAME:CET
DTSTART:20241027T010000
END:STANDARD
BEGIN:DAYLIGHT
TZOFFSETFROM:+0100
TZOFFSETTO:+0200
TZNAME:CEST
DTSTART:20250330T010000
END:DAYLIGHT
BEGIN:STANDARD
TZOFFSETFROM:+0200
TZOFFSETTO:+0100
TZNAME:CET
DTSTART:20251026T010000
END:STANDARD
END:VTIMEZONE
BEGIN:VEVENT
DTSTART;TZID=Europe/Amsterdam:20240425T130000
DTEND;TZID=Europe/Amsterdam:20240425T143000
DTSTAMP:20260422T063419
CREATED:20240318T095750Z
LAST-MODIFIED:20240422T082647Z
UID:10000055-1714050000-1714055400@schuldenknooppunt.nl
SUMMARY:Werkgroep Privacy en Security
DESCRIPTION:In deze bijeenkomst van de Werkgroep Privacy en Security gaan we onder leiding van onze privacy officer Koen Versmissen en onze security officer Alexander Freund in overleg over de volgende onderwerpen: \n\nPrivacy:\n\nDPIA 3.0 / 3.1\nAVG Compliance\n\n\nSecurity:\n\nBusiness Continutity Management\nCoordinated Vulnerability Disclosure\nUpdate ten aanzien van documentatie\, beleidskader IB\, beheersmaatregelen\nISO27001\n\nBIO 2.0\nNIS 2\n\n\nBeschrijving van informatiebeveiliging vs. invullen van vragenlijsten\nOpzet/inhoud rapportages pentesten\n\n\n\nPrivacy- en security specialisten zijn uitgenodigd aan om aan dit overleg deel te nemen. \n  \n\n\n                \n                        \n                            Werkgroep Privacy en Security\n                             \n                        \n                        EmailDit veld is bedoeld voor validatiedoeleinden en moet niet worden gewijzigd.Naam*\n                            \n                            \n                                                    \n                                                    Voornaam\n                                                \n                            \n                                                    \n                                                    Tussenvoegsel\n                                                \n                            \n                                                    \n                                                    Achternaam\n                                                \n                            \n                        Organisatie*Functie*E-mailadres*\n                            \n                        Telefoonnummer*Stel je vragen
URL:https://schuldenknooppunt.nl/bijeenkomst/werkgroep-privacy-en-security/
LOCATION:Online
CATEGORIES:Werkgroep Privacy & Security
END:VEVENT
END:VCALENDAR