BEGIN:VCALENDAR
VERSION:2.0
PRODID:-//Schuldenknooppunt - ECPv6.15.20//NONSGML v1.0//EN
CALSCALE:GREGORIAN
METHOD:PUBLISH
X-WR-CALNAME:Schuldenknooppunt
X-ORIGINAL-URL:https://schuldenknooppunt.nl
X-WR-CALDESC:Evenementen voor Schuldenknooppunt
REFRESH-INTERVAL;VALUE=DURATION:PT1H
X-Robots-Tag:noindex
X-PUBLISHED-TTL:PT1H
BEGIN:VTIMEZONE
TZID:Europe/Amsterdam
BEGIN:DAYLIGHT
TZOFFSETFROM:+0100
TZOFFSETTO:+0200
TZNAME:CEST
DTSTART:20250330T010000
END:DAYLIGHT
BEGIN:STANDARD
TZOFFSETFROM:+0200
TZOFFSETTO:+0100
TZNAME:CET
DTSTART:20251026T010000
END:STANDARD
BEGIN:DAYLIGHT
TZOFFSETFROM:+0100
TZOFFSETTO:+0200
TZNAME:CEST
DTSTART:20260329T010000
END:DAYLIGHT
BEGIN:STANDARD
TZOFFSETFROM:+0200
TZOFFSETTO:+0100
TZNAME:CET
DTSTART:20261025T010000
END:STANDARD
BEGIN:DAYLIGHT
TZOFFSETFROM:+0100
TZOFFSETTO:+0200
TZNAME:CEST
DTSTART:20270328T010000
END:DAYLIGHT
BEGIN:STANDARD
TZOFFSETFROM:+0200
TZOFFSETTO:+0100
TZNAME:CET
DTSTART:20271031T010000
END:STANDARD
END:VTIMEZONE
BEGIN:VEVENT
DTSTART;TZID=Europe/Amsterdam:20260421T100000
DTEND;TZID=Europe/Amsterdam:20260421T110000
DTSTAMP:20260420T152048
CREATED:20250901T101215Z
LAST-MODIFIED:20260327T112032Z
UID:10000109-1776765600-1776769200@schuldenknooppunt.nl
SUMMARY:Informatiebijeenkomst
DESCRIPTION:Ben je benieuwd wat het Schuldenknooppunt is en wat je ermee kunt? Meld je dan aan voor onze informatiebijeenkomst op 21 april 2026. \nDe bijeenkomst is voor iedereen toegankelijk – of je nu al aangesloten bent\, je nog oriënteert of gewoon geïnteresseerd bent in hoe samenwerking rondom schulden slimmer kan. Ook als je (nog) niet direct in dit werkveld actief bent\, ben je van harte welkom.\nWe laten zien hoe het Schuldenknooppunt werkt in de praktijk\, delen ervaringen en er is volop ruimte voor vragen. \nDeelname is gratis. Meld je aan via onderstaand formulier. \n  \n\n\n                \n                        \n                            Aanmelden informatiebijeenkomsten\n                             \n                        \n                        EmailDit veld is bedoeld voor validatiedoeleinden en moet niet worden gewijzigd.Naam*\n                            \n                            \n                                                    \n                                                    Voornaam\n                                                \n                            \n                                                    \n                                                    Tussenvoegsel\n                                                \n                            \n                                                    \n                                                    Achternaam\n                                                \n                            \n                        Organisatie*Functie*E-mailadres*\n                            \n                        Telefoonnummer*Stel je vragen
URL:https://schuldenknooppunt.nl/bijeenkomst/informatiebijeenkomst-21-april-2026/
LOCATION:Online
CATEGORIES:Informatiebijeenkomsten Algemeen
END:VEVENT
BEGIN:VEVENT
DTSTART;TZID=Europe/Amsterdam:20260512T150000
DTEND;TZID=Europe/Amsterdam:20260512T160000
DTSTAMP:20260420T152048
CREATED:20251210T181143Z
LAST-MODIFIED:20260417T102020Z
UID:10000123-1778598000-1778601600@schuldenknooppunt.nl
SUMMARY:Spreekuur
DESCRIPTION:In het Spreekuur van 12 mei koppelen we de uitkomsten van de doelgroepgerichte Gebruikerspanels terug.\nIn april dachten schuldhulpverleners en schuldeisers mee over de doorontwikkeling van het Schuldenknooppunt. Wil jij weten welke wensen en verbeterpunten naar voren kwamen? Wat krijgt prioriteit in de volgende release? Meld je dan aan voor het online spreekuur op donderdag 12 mei van 15.00 tot 16.00u uur. \nHeb je vooraf al vragen die je graag beantwoord ziet tijdens de sessie? Geef die dan uiterlijk 4 dagen voor de bijeenkomst door via het aanmeldformulier. Zo geef je ons voldoende voorbereidingstijd om je vraag zo goed mogelijk te beantwoorden. Vragen die na die tijd ingediend worden\, nemen we zo goed als mogelijk mee. \n\n                \n                        \n                            Aanmelden Spreekuur Schuldenknooppunt\n                            Met dit formulier kun je je aanmelden voor het online spreekuur van het Schuldenknooppunt. \n                        \n                        InstagramDit veld is bedoeld voor validatiedoeleinden en moet niet worden gewijzigd.Naam*\n                            \n                            \n                                                    \n                                                    Voornaam\n                                                \n                            \n                                                    \n                                                    Tussenvoegsel\n                                                \n                            \n                                                    \n                                                    Achternaam\n                                                \n                            \n                        Organisatie*Functie*E-mailadres*\n                            \n                        Dit veld is verborgen bij het bekijken van het formulierDatum SpreekuurVragen spreekuurHier kun je de vragen die je graag beantwoord wilt hebben tijdens het spreekuur alvast vermelden. Zo kunnen wij ons optimaal voorbereiden en je vragen gericht beantwoorden.\n          \n            \n            \n            \n            \n            \n            \n            \n            \n            \n            \n            \n            \n            \n        \n                        \n                        \n\n 
URL:https://schuldenknooppunt.nl/bijeenkomst/spreekuur-12-mei-2026/
LOCATION:Online
CATEGORIES:Spreekuur
END:VEVENT
BEGIN:VEVENT
DTSTART;TZID=Europe/Amsterdam:20260521T110000
DTEND;TZID=Europe/Amsterdam:20260521T120000
DTSTAMP:20260420T152048
CREATED:20250901T102255Z
LAST-MODIFIED:20260327T112843Z
UID:10000110-1779361200-1779364800@schuldenknooppunt.nl
SUMMARY:Informatiebijeenkomst
DESCRIPTION:Ben je benieuwd wat het Schuldenknooppunt is en wat je ermee kunt? Meld je dan aan voor onze informatiebijeenkomst op 21 mei 2026. \nDe bijeenkomst is voor iedereen toegankelijk – of je nu al aangesloten bent\, je nog oriënteert of gewoon geïnteresseerd bent in hoe samenwerking rondom schulden slimmer kan. Ook als je (nog) niet direct in dit werkveld actief bent\, ben je van harte welkom.\nWe laten zien hoe het Schuldenknooppunt werkt in de praktijk\, delen ervaringen en er is volop ruimte voor vragen. \nDeelname is gratis. Meld je aan via onderstaand formulier. \n  \n\n\n                \n                        \n                            Aanmelden informatiebijeenkomsten\n                             \n                        \n                        EmailDit veld is bedoeld voor validatiedoeleinden en moet niet worden gewijzigd.Naam*\n                            \n                            \n                                                    \n                                                    Voornaam\n                                                \n                            \n                                                    \n                                                    Tussenvoegsel\n                                                \n                            \n                                                    \n                                                    Achternaam\n                                                \n                            \n                        Organisatie*Functie*E-mailadres*\n                            \n                        Telefoonnummer*Stel je vragen
URL:https://schuldenknooppunt.nl/bijeenkomst/informatiebijeenkomst-21-05-2026/
LOCATION:Online
CATEGORIES:Informatiebijeenkomsten Algemeen
END:VEVENT
BEGIN:VEVENT
DTSTART;TZID=Europe/Amsterdam:20260622T140000
DTEND;TZID=Europe/Amsterdam:20260622T150000
DTSTAMP:20260420T152048
CREATED:20250901T102716Z
LAST-MODIFIED:20260327T112748Z
UID:10000111-1782136800-1782140400@schuldenknooppunt.nl
SUMMARY:Informatiebijeenkomst
DESCRIPTION:Ben je benieuwd wat het Schuldenknooppunt is en wat je ermee kunt? Meld je dan aan voor onze informatiebijeenkomst op 22 juni 2026. \nDe bijeenkomst is voor iedereen toegankelijk – of je nu al aangesloten bent\, je nog oriënteert of gewoon geïnteresseerd bent in hoe samenwerking rondom schulden slimmer kan. Ook als je (nog) niet direct in dit werkveld actief bent\, ben je van harte welkom.\nWe laten zien hoe het Schuldenknooppunt werkt in de praktijk\, delen ervaringen en er is volop ruimte voor vragen. \nDeelname is gratis. Meld je aan via onderstaand formulier. \n  \n\n\n                \n                        \n                            Aanmelden informatiebijeenkomsten\n                             \n                        \n                        LinkedInDit veld is bedoeld voor validatiedoeleinden en moet niet worden gewijzigd.Naam*\n                            \n                            \n                                                    \n                                                    Voornaam\n                                                \n                            \n                                                    \n                                                    Tussenvoegsel\n                                                \n                            \n                                                    \n                                                    Achternaam\n                                                \n                            \n                        Organisatie*Functie*E-mailadres*\n                            \n                        Telefoonnummer*Stel je vragen
URL:https://schuldenknooppunt.nl/bijeenkomst/informatiebijeenkomst-22-juni-2026/
LOCATION:Online
CATEGORIES:Informatiebijeenkomsten Algemeen
END:VEVENT
BEGIN:VEVENT
DTSTART;TZID=Europe/Amsterdam:20260825T110000
DTEND;TZID=Europe/Amsterdam:20260825T120000
DTSTAMP:20260420T152048
CREATED:20250901T103030Z
LAST-MODIFIED:20260327T113805Z
UID:10000112-1787655600-1787659200@schuldenknooppunt.nl
SUMMARY:Informatiebijeenkomst
DESCRIPTION:Ben je benieuwd wat het Schuldenknooppunt is en wat je ermee kunt? Meld je dan aan voor onze informatiebijeenkomst op 25 augustus. \nDe bijeenkomst is voor iedereen toegankelijk – of je nu al aangesloten bent\, je nog oriënteert of gewoon geïnteresseerd bent in hoe samenwerking rondom schulden slimmer kan. Ook als je (nog) niet direct in dit werkveld actief bent\, ben je van harte welkom.\nWe laten zien hoe het Schuldenknooppunt werkt in de praktijk\, delen ervaringen en er is volop ruimte voor vragen. \nDeelname is gratis. Meld je aan via onderstaand formulier. \n  \n\n\n                \n                        \n                            Aanmelden informatiebijeenkomsten\n                             \n                        \n                        EmailDit veld is bedoeld voor validatiedoeleinden en moet niet worden gewijzigd.Naam*\n                            \n                            \n                                                    \n                                                    Voornaam\n                                                \n                            \n                                                    \n                                                    Tussenvoegsel\n                                                \n                            \n                                                    \n                                                    Achternaam\n                                                \n                            \n                        Organisatie*Functie*E-mailadres*\n                            \n                        Telefoonnummer*Stel je vragen
URL:https://schuldenknooppunt.nl/bijeenkomst/informatiebijeenkomst-25-augustus-2026/
LOCATION:Online
CATEGORIES:Informatiebijeenkomsten Algemeen
END:VEVENT
BEGIN:VEVENT
DTSTART;TZID=Europe/Amsterdam:20260917T103000
DTEND;TZID=Europe/Amsterdam:20260917T113000
DTSTAMP:20260420T152048
CREATED:20250901T103239Z
LAST-MODIFIED:20260327T112559Z
UID:10000113-1789641000-1789644600@schuldenknooppunt.nl
SUMMARY:Informatiebijeenkomst
DESCRIPTION:Ben je benieuwd wat het Schuldenknooppunt is en wat je ermee kunt? Meld je dan aan voor onze informatiebijeenkomst op 17 september 2026. \nDe bijeenkomst is voor iedereen toegankelijk – of je nu al aangesloten bent\, je nog oriënteert of gewoon geïnteresseerd bent in hoe samenwerking rondom schulden slimmer kan. Ook als je (nog) niet direct in dit werkveld actief bent\, ben je van harte welkom.\nWe laten zien hoe het Schuldenknooppunt werkt in de praktijk\, delen ervaringen en er is volop ruimte voor vragen. \nDeelname is gratis. Meld je aan via onderstaand formulier. \n  \n\n\n                \n                        \n                            Aanmelden informatiebijeenkomsten\n                             \n                        \n                        URLDit veld is bedoeld voor validatiedoeleinden en moet niet worden gewijzigd.Naam*\n                            \n                            \n                                                    \n                                                    Voornaam\n                                                \n                            \n                                                    \n                                                    Tussenvoegsel\n                                                \n                            \n                                                    \n                                                    Achternaam\n                                                \n                            \n                        Organisatie*Functie*E-mailadres*\n                            \n                        Telefoonnummer*Stel je vragen
URL:https://schuldenknooppunt.nl/bijeenkomst/informatiebijeenkomst-17-september-2026/
LOCATION:Online
CATEGORIES:Informatiebijeenkomsten Algemeen
END:VEVENT
BEGIN:VEVENT
DTSTART;TZID=Europe/Amsterdam:20261019T140000
DTEND;TZID=Europe/Amsterdam:20261019T150000
DTSTAMP:20260420T152048
CREATED:20250901T103430Z
LAST-MODIFIED:20260327T112511Z
UID:10000114-1792418400-1792422000@schuldenknooppunt.nl
SUMMARY:Informatiebijeenkomst
DESCRIPTION:Ben je benieuwd wat het Schuldenknooppunt is en wat je ermee kunt? Meld je dan aan voor onze informatiebijeenkomst op 19 oktober 2026. \nDe bijeenkomst is voor iedereen toegankelijk – of je nu al aangesloten bent\, je nog oriënteert of gewoon geïnteresseerd bent in hoe samenwerking rondom schulden slimmer kan. Ook als je (nog) niet direct in dit werkveld actief bent\, ben je van harte welkom.\nWe laten zien hoe het Schuldenknooppunt werkt in de praktijk\, delen ervaringen en er is volop ruimte voor vragen. \nDeelname is gratis. Meld je aan via onderstaand formulier. \n  \n\n\n                \n                        \n                            Aanmelden informatiebijeenkomsten\n                             \n                        \n                        NameDit veld is bedoeld voor validatiedoeleinden en moet niet worden gewijzigd.Naam*\n                            \n                            \n                                                    \n                                                    Voornaam\n                                                \n                            \n                                                    \n                                                    Tussenvoegsel\n                                                \n                            \n                                                    \n                                                    Achternaam\n                                                \n                            \n                        Organisatie*Functie*E-mailadres*\n                            \n                        Telefoonnummer*Stel je vragen
URL:https://schuldenknooppunt.nl/bijeenkomst/informatiebijeenkomst-19-oktober-2026/
LOCATION:Online
CATEGORIES:Informatiebijeenkomsten Algemeen
END:VEVENT
BEGIN:VEVENT
DTSTART;TZID=Europe/Amsterdam:20261027T100000
DTEND;TZID=Europe/Amsterdam:20261027T110000
DTSTAMP:20260420T152048
CREATED:20250901T110901Z
LAST-MODIFIED:20260407T122107Z
UID:10000120-1793095200-1793098800@schuldenknooppunt.nl
SUMMARY:Werkgroep Privacy en Security
DESCRIPTION:Ben je privacy of security officer en wil je meer weten over de aandachtspunten die binnen het kader van privacy en/of security van het Schuldenknooppunt voor de komende periode van belang zijn? Meld je dan aan voor het Privacy & Security overleg. Deze bijeenkomst wordt georganiseerd door Koen Versmissen (Privacy Officer & Functionaris Gegevensbescherming) en Jord Franse (Security Officer). \nMeld je aan via het formulier hieronder. \n\n                \n                        \n                            Werkgroep Privacy en Security\n                             \n                        \n                        LinkedInDit veld is bedoeld voor validatiedoeleinden en moet niet worden gewijzigd.Naam*\n                            \n                            \n                                                    \n                                                    Voornaam\n                                                \n                            \n                                                    \n                                                    Tussenvoegsel\n                                                \n                            \n                                                    \n                                                    Achternaam\n                                                \n                            \n                        Organisatie*Functie*E-mailadres*\n                            \n                        Telefoonnummer*Stel je vragen
URL:https://schuldenknooppunt.nl/bijeenkomst/werkgroep-privacy-en-security-27-arpil-2026/
LOCATION:Online
CATEGORIES:Werkgroep Privacy & Security
END:VEVENT
BEGIN:VEVENT
DTSTART;TZID=Europe/Amsterdam:20261119T110000
DTEND;TZID=Europe/Amsterdam:20261119T120000
DTSTAMP:20260420T152048
CREATED:20250901T103622Z
LAST-MODIFIED:20260327T112350Z
UID:10000115-1795086000-1795089600@schuldenknooppunt.nl
SUMMARY:Informatiebijeenkomst
DESCRIPTION:Ben je benieuwd wat het Schuldenknooppunt is en wat je ermee kunt? Meld je dan aan voor onze informatiebijeenkomst op 19 november 2026. \nDe bijeenkomst is voor iedereen toegankelijk – of je nu al aangesloten bent\, je nog oriënteert of gewoon geïnteresseerd bent in hoe samenwerking rondom schulden slimmer kan. Ook als je (nog) niet direct in dit werkveld actief bent\, ben je van harte welkom.\nWe laten zien hoe het Schuldenknooppunt werkt in de praktijk\, delen ervaringen en er is volop ruimte voor vragen. \nDeelname is gratis. Meld je aan via onderstaand formulier. \n  \n\n\n                \n                        \n                            Aanmelden informatiebijeenkomsten\n                             \n                        \n                        FacebookDit veld is bedoeld voor validatiedoeleinden en moet niet worden gewijzigd.Naam*\n                            \n                            \n                                                    \n                                                    Voornaam\n                                                \n                            \n                                                    \n                                                    Tussenvoegsel\n                                                \n                            \n                                                    \n                                                    Achternaam\n                                                \n                            \n                        Organisatie*Functie*E-mailadres*\n                            \n                        Telefoonnummer*Stel je vragen
URL:https://schuldenknooppunt.nl/bijeenkomst/informatiebijeenkomst-19-november-2026/
LOCATION:Online
CATEGORIES:Informatiebijeenkomsten Algemeen
END:VEVENT
BEGIN:VEVENT
DTSTART;TZID=Europe/Amsterdam:20261215T140000
DTEND;TZID=Europe/Amsterdam:20261215T150000
DTSTAMP:20260420T152048
CREATED:20250901T104041Z
LAST-MODIFIED:20260327T112308Z
UID:10000116-1797343200-1797346800@schuldenknooppunt.nl
SUMMARY:Informatiebijeenkomst
DESCRIPTION:Ben je benieuwd wat het Schuldenknooppunt is en wat je ermee kunt? Meld je dan aan voor onze informatiebijeenkomst op 15 december 2026. \nDe bijeenkomst is voor iedereen toegankelijk – of je nu al aangesloten bent\, je nog oriënteert of gewoon geïnteresseerd bent in hoe samenwerking rondom schulden slimmer kan. Ook als je (nog) niet direct in dit werkveld actief bent\, ben je van harte welkom.\nWe laten zien hoe het Schuldenknooppunt werkt in de praktijk\, delen ervaringen en er is volop ruimte voor vragen. \nDeelname is gratis. Meld je aan via onderstaand formulier. \n  \n\n\n                \n                        \n                            Aanmelden informatiebijeenkomsten\n                             \n                        \n                        LinkedInDit veld is bedoeld voor validatiedoeleinden en moet niet worden gewijzigd.Naam*\n                            \n                            \n                                                    \n                                                    Voornaam\n                                                \n                            \n                                                    \n                                                    Tussenvoegsel\n                                                \n                            \n                                                    \n                                                    Achternaam\n                                                \n                            \n                        Organisatie*Functie*E-mailadres*\n                            \n                        Telefoonnummer*Stel je vragen
URL:https://schuldenknooppunt.nl/bijeenkomst/informatiebijeenkomst-15-december-2026/
LOCATION:Online
CATEGORIES:Informatiebijeenkomsten Algemeen
END:VEVENT
END:VCALENDAR