BEGIN:VCALENDAR
VERSION:2.0
PRODID:-//Schuldenknooppunt - ECPv6.15.20//NONSGML v1.0//EN
CALSCALE:GREGORIAN
METHOD:PUBLISH
X-ORIGINAL-URL:https://schuldenknooppunt.nl
X-WR-CALDESC:Evenementen voor Schuldenknooppunt
REFRESH-INTERVAL;VALUE=DURATION:PT1H
X-Robots-Tag:noindex
X-PUBLISHED-TTL:PT1H
BEGIN:VTIMEZONE
TZID:Europe/Amsterdam
BEGIN:DAYLIGHT
TZOFFSETFROM:+0100
TZOFFSETTO:+0200
TZNAME:CEST
DTSTART:20220327T010000
END:DAYLIGHT
BEGIN:STANDARD
TZOFFSETFROM:+0200
TZOFFSETTO:+0100
TZNAME:CET
DTSTART:20221030T010000
END:STANDARD
BEGIN:DAYLIGHT
TZOFFSETFROM:+0100
TZOFFSETTO:+0200
TZNAME:CEST
DTSTART:20230326T010000
END:DAYLIGHT
BEGIN:STANDARD
TZOFFSETFROM:+0200
TZOFFSETTO:+0100
TZNAME:CET
DTSTART:20231029T010000
END:STANDARD
BEGIN:DAYLIGHT
TZOFFSETFROM:+0100
TZOFFSETTO:+0200
TZNAME:CEST
DTSTART:20240331T010000
END:DAYLIGHT
BEGIN:STANDARD
TZOFFSETFROM:+0200
TZOFFSETTO:+0100
TZNAME:CET
DTSTART:20241027T010000
END:STANDARD
BEGIN:DAYLIGHT
TZOFFSETFROM:+0100
TZOFFSETTO:+0200
TZNAME:CEST
DTSTART:20250330T010000
END:DAYLIGHT
BEGIN:STANDARD
TZOFFSETFROM:+0200
TZOFFSETTO:+0100
TZNAME:CET
DTSTART:20251026T010000
END:STANDARD
BEGIN:DAYLIGHT
TZOFFSETFROM:+0100
TZOFFSETTO:+0200
TZNAME:CEST
DTSTART:20260329T010000
END:DAYLIGHT
BEGIN:STANDARD
TZOFFSETFROM:+0200
TZOFFSETTO:+0100
TZNAME:CET
DTSTART:20261025T010000
END:STANDARD
END:VTIMEZONE
BEGIN:VEVENT
DTSTART;TZID=Europe/Amsterdam:20250513T103000
DTEND;TZID=Europe/Amsterdam:20250513T120000
DTSTAMP:20260420T190849
CREATED:20250409T130106Z
LAST-MODIFIED:20250409T130106Z
UID:10000095-1747132200-1747137600@schuldenknooppunt.nl
SUMMARY:Werkgroep Privacy en Security
DESCRIPTION:2x per jaar organiseren we vanuit het Schuldenknooppunt een bijeenkomst die zich richt op de privacy- en security aspecten van het berichtenverkeer dat via het Schuldenknooppunt wordt afgehandeld.\nOnze Privacy Officer (Koen Versmissen) en onze Secutity Officer (Jord Franse) praten collega- privacy officers\, security officers en chief information security officers dan bij over zaken als AVG\, DPIA\, verwerkersverantwoordelijkheid en (resultaten van) PEN-testen. \nMeld je aan via het formulier hieronder. \n\n\n                \n                        \n                            Werkgroep Privacy en Security\n                             \n                        \n                        PhoneDit veld is bedoeld voor validatiedoeleinden en moet niet worden gewijzigd.Naam*\n                            \n                            \n                                                    \n                                                    Voornaam\n                                                \n                            \n                                                    \n                                                    Tussenvoegsel\n                                                \n                            \n                                                    \n                                                    Achternaam\n                                                \n                            \n                        Organisatie*Functie*E-mailadres*\n                            \n                        Telefoonnummer*Stel je vragen
URL:https://schuldenknooppunt.nl/bijeenkomst/werkgroep-privacy-en-security-3/
LOCATION:Online
CATEGORIES:Werkgroep Privacy & Security
END:VEVENT
BEGIN:VEVENT
DTSTART;TZID=Europe/Amsterdam:20241024T130000
DTEND;TZID=Europe/Amsterdam:20241024T143000
DTSTAMP:20260420T190849
CREATED:20240909T081323Z
LAST-MODIFIED:20240913T140454Z
UID:10000066-1729774800-1729780200@schuldenknooppunt.nl
SUMMARY:Werkgroep Privacy en Security
DESCRIPTION:2x per jaar organiseren we vanuit het Schuldenknooppunt een bijeenkomst die zich richt op de privacy- en security aspecten van het berichtenverkeer dat via het Schuldenknooppunt wordt afgehandeld.\nOnze Privacy Officer (Koen Versmissen) en onze Secutity Officer (Jord Franse) praten collega- privacy officers\, security officers en chief information security officers dan bij over zaken als AVG\, DPIA\, verwerkersverantwoordelijkheid en (resultaten van) PEN-testen. \nMeld je aan via het formulier hieronder. \n  \n\n                \n                        \n                            Werkgroep Privacy en Security\n                             \n                        \n                        FacebookDit veld is bedoeld voor validatiedoeleinden en moet niet worden gewijzigd.Naam*\n                            \n                            \n                                                    \n                                                    Voornaam\n                                                \n                            \n                                                    \n                                                    Tussenvoegsel\n                                                \n                            \n                                                    \n                                                    Achternaam\n                                                \n                            \n                        Organisatie*Functie*E-mailadres*\n                            \n                        Telefoonnummer*Stel je vragen
URL:https://schuldenknooppunt.nl/bijeenkomst/werkgroep-privacy-en-security-24-oktober/
LOCATION:Online
CATEGORIES:Werkgroep Privacy & Security
END:VEVENT
BEGIN:VEVENT
DTSTART;TZID=Europe/Amsterdam:20240425T130000
DTEND;TZID=Europe/Amsterdam:20240425T143000
DTSTAMP:20260420T190849
CREATED:20240318T095750Z
LAST-MODIFIED:20240422T082647Z
UID:10000055-1714050000-1714055400@schuldenknooppunt.nl
SUMMARY:Werkgroep Privacy en Security
DESCRIPTION:In deze bijeenkomst van de Werkgroep Privacy en Security gaan we onder leiding van onze privacy officer Koen Versmissen en onze security officer Alexander Freund in overleg over de volgende onderwerpen: \n\nPrivacy:\n\nDPIA 3.0 / 3.1\nAVG Compliance\n\n\nSecurity:\n\nBusiness Continutity Management\nCoordinated Vulnerability Disclosure\nUpdate ten aanzien van documentatie\, beleidskader IB\, beheersmaatregelen\nISO27001\n\nBIO 2.0\nNIS 2\n\n\nBeschrijving van informatiebeveiliging vs. invullen van vragenlijsten\nOpzet/inhoud rapportages pentesten\n\n\n\nPrivacy- en security specialisten zijn uitgenodigd aan om aan dit overleg deel te nemen. \n  \n\n                \n                        \n                            Werkgroep Privacy en Security\n                             \n                        \n                        PhoneDit veld is bedoeld voor validatiedoeleinden en moet niet worden gewijzigd.Naam*\n                            \n                            \n                                                    \n                                                    Voornaam\n                                                \n                            \n                                                    \n                                                    Tussenvoegsel\n                                                \n                            \n                                                    \n                                                    Achternaam\n                                                \n                            \n                        Organisatie*Functie*E-mailadres*\n                            \n                        Telefoonnummer*Stel je vragen
URL:https://schuldenknooppunt.nl/bijeenkomst/werkgroep-privacy-en-security/
LOCATION:Online
CATEGORIES:Werkgroep Privacy & Security
END:VEVENT
BEGIN:VEVENT
DTSTART;TZID=Europe/Amsterdam:20240405T100000
DTEND;TZID=Europe/Amsterdam:20240405T113000
DTSTAMP:20260420T190849
CREATED:20240318T100157Z
LAST-MODIFIED:20250227T142604Z
UID:10000057-1712311200-1712316600@schuldenknooppunt.nl
SUMMARY:Gebruikersoverleg (2/2)
DESCRIPTION:Gebruikersoverleg (2/2): inventarisatie wensen doorontwikkeling/uitbreiding functionaliteit Schuldenknooppunt. \n  \n\n                \n                        \n                            Aanmelden gebruikerspanel\n                             \n                        \n                        URLDit veld is bedoeld voor validatiedoeleinden en moet niet worden gewijzigd.Naam*\n                            \n                            \n                                                    \n                                                    Voornaam\n                                                \n                            \n                                                    \n                                                    Tussenvoegsel\n                                                \n                            \n                                                    \n                                                    Achternaam\n                                                \n                            \n                        Organisatie*Functie*E-mailadres*\n                            \n                        Telefoonnummer*Stel je vragen
URL:https://schuldenknooppunt.nl/bijeenkomst/gebruikersoverleg-2-2/
LOCATION:Online
CATEGORIES:Gebruikerspanel
END:VEVENT
BEGIN:VEVENT
DTSTART;TZID=Europe/Amsterdam:20240328T150000
DTEND;TZID=Europe/Amsterdam:20240328T163000
DTSTAMP:20260420T190849
CREATED:20240318T100011Z
LAST-MODIFIED:20240318T100011Z
UID:10000056-1711638000-1711643400@schuldenknooppunt.nl
SUMMARY:Gebruikersoverleg (1/2)
DESCRIPTION:Gebruikersoverleg (1/2): inventarisatie wensen doorontwikkeling/uitbreiding functionaliteit Schuldenknooppunt. \n  \n\n                \n                        \n                            Aanmelden gebruikerspanel\n                             \n                        \n                        CompanyDit veld is bedoeld voor validatiedoeleinden en moet niet worden gewijzigd.Naam*\n                            \n                            \n                                                    \n                                                    Voornaam\n                                                \n                            \n                                                    \n                                                    Tussenvoegsel\n                                                \n                            \n                                                    \n                                                    Achternaam\n                                                \n                            \n                        Organisatie*Functie*E-mailadres*\n                            \n                        Telefoonnummer*Stel je vragen
URL:https://schuldenknooppunt.nl/bijeenkomst/gebruikersoverleg-1-2/
LOCATION:Online
CATEGORIES:Gebruikerspanel
END:VEVENT
BEGIN:VEVENT
DTSTART;TZID=Europe/Amsterdam:20231212T100000
DTEND;TZID=Europe/Amsterdam:20231212T110000
DTSTAMP:20260420T190849
CREATED:20230710T175502Z
LAST-MODIFIED:20231106T142314Z
UID:10000022-1702375200-1702378800@schuldenknooppunt.nl
SUMMARY:Informatiebijeenkomst
DESCRIPTION:Nu ook voor alle schuldhulpverleners\, bewindvoerders en schuldeisers! Hoor meer over de nieuwe modules Meldingen bewindvoering\, Schuldinventarisatie en Betalingsregeling en over het Schuldenknooppunt in het algemeen. Naast de werking\, komen het gebruik en de kosten aan bod. Ook bespreken we hoe je kunt aansluiten. We beantwoorden vooraf gestelde vragen en uiteraard is er voldoende tijd voor het stellen van aanvullende vragen. Meld je nu aan! \n  \nOeps! We konden je formulier niet vinden.
URL:https://schuldenknooppunt.nl/bijeenkomst/informatiebijeenkomst-12-december/
LOCATION:Online
CATEGORIES:Informatiebijeenkomsten voor Schuldhulpverleners
END:VEVENT
BEGIN:VEVENT
DTSTART;TZID=Europe/Amsterdam:20231123T140000
DTEND;TZID=Europe/Amsterdam:20231123T150000
DTSTAMP:20260420T190849
CREATED:20230710T175409Z
LAST-MODIFIED:20231106T142328Z
UID:10000021-1700748000-1700751600@schuldenknooppunt.nl
SUMMARY:Informatiebijeenkomst
DESCRIPTION:Nu ook voor alle schuldhulpverleners\, bewindvoerders en schuldeisers! Hoor meer over de nieuwe modules Meldingen bewindvoering\, Schuldinventarisatie en Betalingsregeling en over het Schuldenknooppunt in het algemeen. Naast de werking\, komen het gebruik en de kosten aan bod. Ook bespreken we hoe je kunt aansluiten. We beantwoorden vooraf gestelde vragen en uiteraard is er voldoende tijd voor het stellen van aanvullende vragen. Meld je nu aan! \n  \nOeps! We konden je formulier niet vinden.
URL:https://schuldenknooppunt.nl/bijeenkomst/informatiebijeenkomst-23-november/
LOCATION:Online
CATEGORIES:Informatiebijeenkomsten voor Schuldhulpverleners
END:VEVENT
BEGIN:VEVENT
DTSTART;TZID=Europe/Amsterdam:20231120T150000
DTEND;TZID=Europe/Amsterdam:20231120T163000
DTSTAMP:20260420T190849
CREATED:20230724T085818Z
LAST-MODIFIED:20231115T130329Z
UID:10000033-1700492400-1700497800@schuldenknooppunt.nl
SUMMARY:Werkgroep Privacy en Security
DESCRIPTION:In deze bijeenkomst van de Werkgroep Privacy en Security gaan we onder leiding van onze privacy officer Koen Versmissen en onze security officer Alexander Freund in overleg over de volgende onderwerpen: overeenkomsten\, gedragscode\, DPIA\, Security assessment\, AVG-rollen en ISO27001. We geven een toelichting op de actuele stand van zaken van deze onderwerpen en inventariseren welke vragen hierover zijn en/of welke acties binnen dit kader de komende periode opgepakt zouden moeten worden. \n  \n\n                \n                        \n                            Werkgroep Privacy en Security\n                             \n                        \n                        FacebookDit veld is bedoeld voor validatiedoeleinden en moet niet worden gewijzigd.Naam*\n                            \n                            \n                                                    \n                                                    Voornaam\n                                                \n                            \n                                                    \n                                                    Tussenvoegsel\n                                                \n                            \n                                                    \n                                                    Achternaam\n                                                \n                            \n                        Organisatie*Functie*E-mailadres*\n                            \n                        Telefoonnummer*Stel je vragen
URL:https://schuldenknooppunt.nl/bijeenkomst/werkgroep-privacy-security-20-november-2023/
LOCATION:Online
CATEGORIES:Werkgroep Privacy & Security
END:VEVENT
BEGIN:VEVENT
DTSTART;TZID=Europe/Amsterdam:20231107T100000
DTEND;TZID=Europe/Amsterdam:20231107T113000
DTSTAMP:20260420T190849
CREATED:20230727T082511Z
LAST-MODIFIED:20230808T095025Z
UID:10000036-1699351200-1699356600@schuldenknooppunt.nl
SUMMARY:Gebruikersoverleg
DESCRIPTION:Inhoudelijk overleg. We inventariseren met elkaar welke punten uit het huidig gebruik naar voren komen die in een toekomstige release kunnen worden opgepakt. \n  \n\n                \n                        \n                            Aanmelden gebruikerspanel\n                             \n                        \n                        NameDit veld is bedoeld voor validatiedoeleinden en moet niet worden gewijzigd.Naam*\n                            \n                            \n                                                    \n                                                    Voornaam\n                                                \n                            \n                                                    \n                                                    Tussenvoegsel\n                                                \n                            \n                                                    \n                                                    Achternaam\n                                                \n                            \n                        Organisatie*Functie*E-mailadres*\n                            \n                        Telefoonnummer*Stel je vragen
URL:https://schuldenknooppunt.nl/bijeenkomst/gebruikersoverleg-7-november-2023/
LOCATION:Online
CATEGORIES:Gebruikerspanel
END:VEVENT
BEGIN:VEVENT
DTSTART;TZID=Europe/Amsterdam:20231010T103000
DTEND;TZID=Europe/Amsterdam:20231010T120000
DTSTAMP:20260420T190849
CREATED:20230710T175320Z
LAST-MODIFIED:20230724T090237Z
UID:10000020-1696933800-1696939200@schuldenknooppunt.nl
SUMMARY:Informatiebijeenkomst Schuldhulpverleners
DESCRIPTION:Tijdens deze online bijeenkomst geven we een algemene toelichting over het Schuldenknooppunt. Naast de werking\, komen het gebruik en de kosten aan bod. Ook bespreken we hoe je kunt aanmelden en aansluiten. Voor de meeste schuldhulpverleners gaat dit via de integratie die beschikbaar is vanuit de eigen software (die nu in gebruik is). We beantwoorden vooraf gestelde vragen en uiteraard is er voldoende tijd voor het stellen van aanvullende vragen. \n  \nOeps! We konden je formulier niet vinden.
URL:https://schuldenknooppunt.nl/bijeenkomst/informatiebijeenkomst-schuldhulpverleners-10-oktober/
LOCATION:Online
CATEGORIES:Informatiebijeenkomsten voor Schuldhulpverleners
END:VEVENT
BEGIN:VEVENT
DTSTART;TZID=Europe/Amsterdam:20231002T140000
DTEND;TZID=Europe/Amsterdam:20231002T153000
DTSTAMP:20260420T190849
CREATED:20230724T085419Z
LAST-MODIFIED:20230817T140757Z
UID:10000032-1696255200-1696260600@schuldenknooppunt.nl
SUMMARY:Werkgroep Privacy en Security
DESCRIPTION:De aansluit- en verwerkersovereenkomst van het Schuldenknooppunt worden aangepast en toekomstbestendig gemaakt.\nDe overeenkomsten worden beknopter\, en zullen meer verwijzen naar andere documenten. De inhoudelijke wijzigingen zijn beperkt. In deze sessie lichten we een en ander toe en is er ruimte voor vragen. \n  \nOeps! We konden je formulier niet vinden.
URL:https://schuldenknooppunt.nl/bijeenkomst/werkgroep-privacy-security-2-oktober-2023/2023-10-02/
LOCATION:Online
CATEGORIES:Werkgroep Privacy & Security
END:VEVENT
BEGIN:VEVENT
DTSTART;TZID=Europe/Amsterdam:20230928T140000
DTEND;TZID=Europe/Amsterdam:20230928T153000
DTSTAMP:20260420T190849
CREATED:20230724T083830Z
LAST-MODIFIED:20230908T173618Z
UID:10000026-1695909600-1695915000@schuldenknooppunt.nl
SUMMARY:Stakeholdersoverleg
DESCRIPTION:Laatste stand van zaken over het Schuldenknooppunt. \n  \n\n                \n                        \n                            Aanmelden Stakeholdersoverleg\n                             \n                        \n                        PhoneDit veld is bedoeld voor validatiedoeleinden en moet niet worden gewijzigd.Naam*\n                            \n                            \n                                                    \n                                                    Voornaam\n                                                \n                            \n                                                    \n                                                    Tussenvoegsel\n                                                \n                            \n                                                    \n                                                    Achternaam\n                                                \n                            \n                        Organisatie*Functie*E-mailadres*\n                            \n                        TelefoonnummerStel je vragen
URL:https://schuldenknooppunt.nl/bijeenkomst/stakeholdersoverleg-28-september-2023/
LOCATION:Online
CATEGORIES:Stakeholdersoverleg
END:VEVENT
BEGIN:VEVENT
DTSTART;TZID=Europe/Amsterdam:20230926T140000
DTEND;TZID=Europe/Amsterdam:20230926T153000
DTSTAMP:20260420T190849
CREATED:20230727T083837Z
LAST-MODIFIED:20230810T100300Z
UID:10000039-1695736800-1695742200@schuldenknooppunt.nl
SUMMARY:NVI webinar
DESCRIPTION:  \nOeps! We konden je formulier niet vinden.
URL:https://schuldenknooppunt.nl/bijeenkomst/nvi-campagne-26-september-2023/
LOCATION:Online
CATEGORIES:Productontwikkeling
END:VEVENT
BEGIN:VEVENT
DTSTART;TZID=Europe/Amsterdam:20230914T140000
DTEND;TZID=Europe/Amsterdam:20230914T153000
DTSTAMP:20260420T190849
CREATED:20230710T175205Z
LAST-MODIFIED:20230724T090237Z
UID:10000019-1694700000-1694705400@schuldenknooppunt.nl
SUMMARY:Informatiebijeenkomst Schuldhulpverleners
DESCRIPTION:Tijdens deze online bijeenkomst geven we een algemene toelichting over het Schuldenknooppunt. Naast de werking\, komen het gebruik en de kosten aan bod. Ook bespreken we hoe je kunt aanmelden en aansluiten. Voor de meeste schuldhulpverleners gaat dit via de integratie die beschikbaar is vanuit de eigen software (die nu in gebruik is). We beantwoorden vooraf gestelde vragen en uiteraard is er voldoende tijd voor het stellen van aanvullende vragen. \n  \nOeps! We konden je formulier niet vinden.
URL:https://schuldenknooppunt.nl/bijeenkomst/informatiebijeenkomsten-schuldhulpverleners-14-september/
LOCATION:Online
CATEGORIES:Informatiebijeenkomsten voor Schuldhulpverleners
END:VEVENT
BEGIN:VEVENT
DTSTART;TZID=Europe/Amsterdam:20230704T130000
DTEND;TZID=Europe/Amsterdam:20230704T143000
DTSTAMP:20260420T190849
CREATED:20230220T125037Z
LAST-MODIFIED:20230615T113346Z
UID:10000008-1688475600-1688481000@schuldenknooppunt.nl
SUMMARY:Informatiebijeenkomst modern schuldregelen en Schuldenknooppunt
DESCRIPTION:Online informatiebijeenkomst voor schuldhulpverleners\nCollectief Schuldregelen en het Schuldenknooppunt \nOeps! We konden je formulier niet vinden.
URL:https://schuldenknooppunt.nl/bijeenkomst/informatiebijeenkomst-cs-skp-voor-schuldhulpverleners-04-07-23/
LOCATION:Online
CATEGORIES:Informatiebijeenkomsten voor Schuldhulpverleners
END:VEVENT
BEGIN:VEVENT
DTSTART;TZID=Europe/Amsterdam:20230703T140000
DTEND;TZID=Europe/Amsterdam:20230703T153000
DTSTAMP:20260420T190849
CREATED:20230619T090917Z
LAST-MODIFIED:20230619T090917Z
UID:10000013-1688392800-1688398200@schuldenknooppunt.nl
SUMMARY:NVI kick-off webinar
DESCRIPTION:NVI kick-off webinar \nOeps! We konden je formulier niet vinden.
URL:https://schuldenknooppunt.nl/bijeenkomst/nvi-kick-off-webinar/
LOCATION:Online
CATEGORIES:Productontwikkeling
END:VEVENT
BEGIN:VEVENT
DTSTART;TZID=Europe/Amsterdam:20230608T150000
DTEND;TZID=Europe/Amsterdam:20230608T163000
DTSTAMP:20260420T190849
CREATED:20230524T070641Z
LAST-MODIFIED:20230524T071228Z
UID:10000012-1686236400-1686241800@schuldenknooppunt.nl
SUMMARY:Demo Schuldenknooppunt 2.0
DESCRIPTION:Online demo over het Schuldenknooppunt 2.0 \n\n                \n                        \n                            Online demonstratie-sessie 2.0-functionaliteit van het Schuldenknooppunt\n                             \n                        \n                        LinkedInDit veld is bedoeld voor validatiedoeleinden en moet niet worden gewijzigd.Naam*\n                            \n                            \n                                                    \n                                                    Voornaam\n                                                \n                            \n                                                    \n                                                    Tussenvoegsel\n                                                \n                            \n                                                    \n                                                    Achternaam\n                                                \n                            \n                        Organisatie*Functie*E-mailadres*\n                            \n                        Telefoonnummer*Stel je vragen
URL:https://schuldenknooppunt.nl/bijeenkomst/informatiebijeenkomst-online-demonstratie-sessie-2-0-functionaliteit-2/
LOCATION:Online
CATEGORIES:Productontwikkeling
END:VEVENT
BEGIN:VEVENT
DTSTART;TZID=Europe/Amsterdam:20230601T100000
DTEND;TZID=Europe/Amsterdam:20230601T113000
DTSTAMP:20260420T190849
CREATED:20230220T124733Z
LAST-MODIFIED:20230331T061734Z
UID:10000007-1685613600-1685619000@schuldenknooppunt.nl
SUMMARY:Informatiebijeenkomst modern schuldregelen en Schuldenknooppunt
DESCRIPTION:Online informatiebijeenkomst voor schuldhulpverleners\nCollectief Schuldregelen en het Schuldenknooppunt \nOeps! We konden je formulier niet vinden.
URL:https://schuldenknooppunt.nl/bijeenkomst/informatiebijeenkomst-cs-skp-voor-schuldhulpverleners-01-06-2023/
LOCATION:Online
CATEGORIES:Informatiebijeenkomsten voor Schuldhulpverleners
END:VEVENT
BEGIN:VEVENT
DTSTART;TZID=Europe/Amsterdam:20230418T130000
DTEND;TZID=Europe/Amsterdam:20230418T143000
DTSTAMP:20260420T190849
CREATED:20230220T124702Z
LAST-MODIFIED:20230331T061738Z
UID:10000006-1681822800-1681828200@schuldenknooppunt.nl
SUMMARY:Informatiebijeenkomst modern schuldregelen en Schuldenknooppunt
DESCRIPTION:Online informatiebijeenkomst voor schuldhulpverleners\nCollectief Schuldregelen en het Schuldenknooppunt \nOeps! We konden je formulier niet vinden.
URL:https://schuldenknooppunt.nl/bijeenkomst/informatiebijeenkomst-cs-skp-voor-schuldhulpverleners-18-04-2023/
LOCATION:Online
CATEGORIES:Informatiebijeenkomsten voor Schuldhulpverleners
END:VEVENT
BEGIN:VEVENT
DTSTART;TZID=Europe/Amsterdam:20230223T130000
DTEND;TZID=Europe/Amsterdam:20230223T143000
DTSTAMP:20260420T190849
CREATED:20230112T152859Z
LAST-MODIFIED:20230331T061746Z
UID:10000003-1677157200-1677162600@schuldenknooppunt.nl
SUMMARY:Informatiebijeenkomst modern schuldregelen en Schuldenknooppunt
DESCRIPTION:Online informatiebijeenkomst voor schuldhulpverleners\nCollectief Schuldregelen en het Schuldenknooppunt \nOeps! We konden je formulier niet vinden.
URL:https://schuldenknooppunt.nl/bijeenkomst/informatiebijeenkomst-cs-skp-voor-schuldhulpverleners-23-02-2023/
LOCATION:Online
CATEGORIES:Informatiebijeenkomsten voor Schuldhulpverleners
END:VEVENT
END:VCALENDAR